BEGIN:VCALENDAR
VERSION:2.0
PRODID:-//Asociacion Ambiens - ECPv6.15.20//NONSGML v1.0//EN
CALSCALE:GREGORIAN
METHOD:PUBLISH
X-ORIGINAL-URL:https://asociacionambiens.org
X-WR-CALDESC:Eventos para Asociacion Ambiens
REFRESH-INTERVAL;VALUE=DURATION:PT1H
X-Robots-Tag:noindex
X-PUBLISHED-TTL:PT1H
BEGIN:VTIMEZONE
TZID:UTC
BEGIN:STANDARD
TZOFFSETFROM:+0000
TZOFFSETTO:+0000
TZNAME:UTC
DTSTART:20200101T000000
END:STANDARD
END:VTIMEZONE
BEGIN:VEVENT
DTSTART;TZID=UTC:20230423T100000
DTEND;TZID=UTC:20230423T120000
DTSTAMP:20260423T164741
CREATED:20230414T091157Z
LAST-MODIFIED:20230414T091157Z
UID:3359-1682244000-1682251200@asociacionambiens.org
SUMMARY:Limpieza Playa
DESCRIPTION:
URL:https://asociacionambiens.org/evento/limpieza-playa
END:VEVENT
BEGIN:VEVENT
DTSTART;VALUE=DATE:20220312
DTEND;VALUE=DATE:20220314
DTSTAMP:20260423T164741
CREATED:20220222T181725Z
LAST-MODIFIED:20220222T181725Z
UID:3250-1647043200-1647215999@asociacionambiens.org
SUMMARY:II Edición Curso caballitos de mar 2022 - Seahorse project
DESCRIPTION:12 y 13 de marzo \nEn las instalaciones de l´Oceanogràfic de Valencia
URL:https://asociacionambiens.org/evento/ii-edicion-curso-caballitos-de-mar-2022-seahorse-project
ATTACH;FMTTYPE=image/jpeg:https://asociacionambiens.org/wp-content/uploads/2022/02/Foto-21-12-20-14-05-07-scaled.jpg
END:VEVENT
BEGIN:VEVENT
DTSTART;TZID=UTC:20210327T090000
DTEND;TZID=UTC:20210328T150000
DTSTAMP:20260423T164741
CREATED:20210226T114303Z
LAST-MODIFIED:20210226T114542Z
UID:3148-1616835600-1616943600@asociacionambiens.org
SUMMARY:CURSO CABALLITOS DE MAR OCEANOGRÀFIC VALÈNCIA
DESCRIPTION:Visita nuestra página del proyecto SEAHORSE PROJECT para toda la información sobre el curso y cómo apuntarse. \n 
URL:https://asociacionambiens.org/evento/curso-de-caballitos-de-mar-oceanografic-vvalencia
ATTACH;FMTTYPE=image/jpeg:https://asociacionambiens.org/wp-content/uploads/2021/02/jules-marvin-eguilos-mthh1jOGbsY-unsplash-1-scaled.jpg
END:VEVENT
END:VCALENDAR